BEGIN:VCALENDAR
VERSION:2.0
PRODID:-//IP.Board Calendar 4.4.9.1//EN
METHOD:PUBLISH
CALSCALE:GREGORIAN
X-WR-CALNAME:Grillkalender
BEGIN:VTIMEZONE
TZID:Europe/London
TZURL:http://tzurl.org/zoneinfo/Europe/London
X-LIC-LOCATION:Europe/London
BEGIN:DAYLIGHT
TZOFFSETFROM:+0000
TZOFFSETTO:+0100
TZNAME:BST
DTSTART:20200329T020000Z
RRULE:FREQ=YEARLY;BYMONTH=3;BYDAY=-1SU
END:DAYLIGHT
BEGIN:STANDARD
TZOFFSETFROM:+0100
TZOFFSETTO:+0000
TZNAME:GMT
DTSTART:20201025T020000Z
RRULE:FREQ=YEARLY;BYMONTH=10;BYDAY=-1SU
END:STANDARD
END:VTIMEZONE
BEGIN:VEVENT
SUMMARY:Rauch und Glut Freiburg
DTSTAMP:20191127T201946Z
SEQUENCE:0
UID:7-1-c073714a3aa2a1209a3f5bfb134a9a50@grillerforum.de
ORGANIZER;CN="Admin":kontakt@grillerforum.de
DESCRIPTION:\n\n	Egal ob Balkon-Brutzler\, Schrebergarten-König oder Ou
	tdoorkitchen-Chef\, auf der Premiere der BBQ Lifestyle Messe Rauch&amp\;
	Glut findet jeder eine große Auswahl an Ausstellern aus den Bereichen Gas
	-\, Elektro-\, Holzkohlegrill\, Smoker\, Grillequipment\, Food &amp\; Beve
	rage.\n\n\n\n	Öffnungszeiten\n\n	Fr. 14 - 21 Uhr\n\n	Sa. 10 - 20 Uhr\n\n	
	So. 10- 18 Uhr\n\n\n\n	Eintritt\nVorverkauf 6\,50 €\n\n	Tageskarte 9\,
	- € / ermäßigt 7\,-  €\n\n	Kinder bis 14 Jahre in Begleitung Erwac
	hsener haben freien Eintritt.\n\n
DTSTART;VALUE=DATE:20200306
DTEND;VALUE=DATE:20200309
END:VEVENT
END:VCALENDAR
