BEGIN:VCALENDAR
VERSION:2.0
PRODID:-//IP.Board Calendar 4.4.9.1//EN
METHOD:PUBLISH
CALSCALE:GREGORIAN
X-WR-CALNAME:Grillkalender
BEGIN:VTIMEZONE
TZID:Europe/London
TZURL:http://tzurl.org/zoneinfo/Europe/London
X-LIC-LOCATION:Europe/London
BEGIN:DAYLIGHT
TZOFFSETFROM:+0000
TZOFFSETTO:+0100
TZNAME:BST
DTSTART:20200329T020000Z
RRULE:FREQ=YEARLY;BYMONTH=3;BYDAY=-1SU
END:DAYLIGHT
BEGIN:STANDARD
TZOFFSETFROM:+0100
TZOFFSETTO:+0000
TZNAME:GMT
DTSTART:20201025T020000Z
RRULE:FREQ=YEARLY;BYMONTH=10;BYDAY=-1SU
END:STANDARD
END:VTIMEZONE
BEGIN:VEVENT
SUMMARY:Grillwelt Wien
DTSTAMP:20191128T115828Z
SEQUENCE:0
UID:13-1-c073714a3aa2a1209a3f5bfb134a9a50@grillerforum.de
ORGANIZER;CN="Admin":kontakt@grillerforum.de
DESCRIPTION:\n\n	Die Messe GRILLWELT findet im Rahmen der Wohnen und Int
	erieur statt. „Mit der GRILLWELT greifen wir ein äußerst populäres Th
	ema auf\, das perfekt in das Umfeld der Wohnen &amp\; Interieur passt“\,
	 kommentiert Category Manager Edmund Seliger den neuen Event\, der vom 20.
	 bis 22. adäquat\, nämlich outdoor zwischen Hallen B und C angesiedelt s
	ein wird. Die Messebesucher können auf der GRILLWELT die neuesten Grillge
	räte kennenlernen\, sich aber auch von Experten die wichtigsten Tricks ru
	nd ums Grillen und das entsprechende Grillgut zeigen lassen. Es werden die
	 verschiedenen Arten und Techniken des Grillens demonstriert\, Information
	en über das richtige Equipment und die neuesten Trends der Grill-Kulinari
	k vermittelt - bis hin zum Green Grilling und vegetarischen Grillen. Live 
	Auftritte\, kreative Mitmachbewerbe\, lässige Chill-Out Areas und natürl
	ich die Chance\, die verschiedensten Köstlichkeiten vom Grill zu probiere
	n\, werden den Besuch der GRILLWELT zum nicht bloß informativen\, sondern
	 auch vergnüglichen Erlebnis machen.\n\n\n\n	Öffnungszeiten\n\n	Fr. 9 - 
	18 Uhr\n\n	Sa. 9 - 18 Uhr\n\n	So. 9 - 18 Uhr\n\n
DTSTART;VALUE=DATE:20200320
DTEND;VALUE=DATE:20200323
END:VEVENT
END:VCALENDAR
