BEGIN:VCALENDAR
VERSION:2.0
PRODID:-//IP.Board Calendar 4.4.9.1//EN
METHOD:PUBLISH
CALSCALE:GREGORIAN
X-WR-CALNAME:Grillkalender
BEGIN:VTIMEZONE
TZID:Europe/London
TZURL:http://tzurl.org/zoneinfo/Europe/London
X-LIC-LOCATION:Europe/London
BEGIN:DAYLIGHT
TZOFFSETFROM:+0000
TZOFFSETTO:+0100
TZNAME:BST
DTSTART:20200329T020000Z
RRULE:FREQ=YEARLY;BYMONTH=3;BYDAY=-1SU
END:DAYLIGHT
BEGIN:STANDARD
TZOFFSETFROM:+0100
TZOFFSETTO:+0000
TZNAME:GMT
DTSTART:20201025T020000Z
RRULE:FREQ=YEARLY;BYMONTH=10;BYDAY=-1SU
END:STANDARD
END:VTIMEZONE
BEGIN:VEVENT
SUMMARY:Angrillen bei Santos Grills Köln
DTSTAMP:20191128T113242Z
SEQUENCE:0
UID:12-1-c073714a3aa2a1209a3f5bfb134a9a50@grillerforum.de
ORGANIZER;CN="Admin":kontakt@grillerforum.de
DESCRIPTION:\n\n	Traditionelles Angrillen beim weltweit größten Grillf
	achhandel Santos Grills in Köln. Neben der Möglichkeit sich alle Neuigke
	iten der Grillszene live im Showroom anzusehen\, gibt`s Tipps und Tricks\,
	 bei Bedarf eine ausführliche Beratung\, ein kulinarisches Feuerwerk und 
	Aktionspreise für ausgewählte Produkte. Grillexperten von Weber Grill\, 
	Broil King\, Napoleon\, Kamado Joe\, Otto Wilde Grillers\, Ankerkraut und 
	viele andere grillen kostenlos auf unserem Gelände für Euch!\n\n	Es gibt
	 etwas zu gewinnen\, Kinderschminken und 1000 Gründe mehr\, um den Start 
	in die neue Saison zu feiern. Für Getränke ist gesorgt (Kölsch &amp\; S
	oftgetränke nur 1\,50 Euro). Also bringt ordentlich Hunger und Durst mit!
	\n\n\n\n	Öffnungszeiten\n\n	Sa. 10 - 18 Uhr\n\n\n\n	Eintritt\n\n	frei\n\n
DTSTART:20200314T090000Z
DTEND:20200314T170000Z
END:VEVENT
END:VCALENDAR
