BEGIN:VCALENDAR
VERSION:2.0
PRODID:-//IP.Board Calendar 4.4.9.1//EN
METHOD:PUBLISH
CALSCALE:GREGORIAN
X-WR-CALNAME:Grillkalender
BEGIN:VTIMEZONE
TZID:Europe/London
TZURL:http://tzurl.org/zoneinfo/Europe/London
X-LIC-LOCATION:Europe/London
BEGIN:DAYLIGHT
TZOFFSETFROM:+0000
TZOFFSETTO:+0100
TZNAME:BST
DTSTART:20200329T020000Z
RRULE:FREQ=YEARLY;BYMONTH=3;BYDAY=-1SU
END:DAYLIGHT
BEGIN:STANDARD
TZOFFSETFROM:+0100
TZOFFSETTO:+0000
TZNAME:GMT
DTSTART:20201025T020000Z
RRULE:FREQ=YEARLY;BYMONTH=10;BYDAY=-1SU
END:STANDARD
END:VTIMEZONE
BEGIN:VEVENT
SUMMARY:TasteFest Dortmund
DTSTAMP:20191128T111223Z
SEQUENCE:0
UID:11-1-c073714a3aa2a1209a3f5bfb134a9a50@grillerforum.de
ORGANIZER;CN="Admin":kontakt@grillerforum.de
DESCRIPTION:\n\n	Parallel zur Bau! Messe! NRW! wird es die neue Food-Mes
	se TasteFest geben. Mit dem TasteFest geht in Dortmund eine neue Messe an 
	den Start\, die sich ganz dem Genuss verschrieben hat! Auch das BBQ-Specia
	l wird ein heißer Anziehungspunkt sein: Rechtzeitig zum „Angrillen“ 
	im Frühjahr wird hier live präsentiert\, was ein BBQ noch schöner und s
	chmackhafter macht.Und das Rahmenprogramm mit Tastings\, Workshops\, Vorf
	ührungen auf der Kochbühne inspiriert sicherlich dazu\, Neues auszuprobi
	eren.\n\n\n\n	Öffnungszeiten\n\n	täglich 10 - 18 Uhr\n\n	TasteNight Sa. 
	18 - 22 Uhr\n\n\n\n	Eintritt\n\n	Tageskarte 8\,- € / ermäßigt 6\,- 
	 €\n\n	Kinder bis einschließlich 13 Jahre haben freien Eintritt.\n\n
DTSTART:20200313T090000Z
DTEND:20200315T170000Z
END:VEVENT
END:VCALENDAR
