BEGIN:VCALENDAR
VERSION:2.0
PRODID:-//IP.Board Calendar 4.4.9.1//EN
METHOD:PUBLISH
CALSCALE:GREGORIAN
X-WR-CALNAME:Grillkalender
BEGIN:VTIMEZONE
TZID:Europe/London
TZURL:http://tzurl.org/zoneinfo/Europe/London
X-LIC-LOCATION:Europe/London
BEGIN:DAYLIGHT
TZOFFSETFROM:+0000
TZOFFSETTO:+0100
TZNAME:BST
DTSTART:20200329T020000Z
RRULE:FREQ=YEARLY;BYMONTH=3;BYDAY=-1SU
END:DAYLIGHT
BEGIN:STANDARD
TZOFFSETFROM:+0100
TZOFFSETTO:+0000
TZNAME:GMT
DTSTART:20201025T020000Z
RRULE:FREQ=YEARLY;BYMONTH=10;BYDAY=-1SU
END:STANDARD
END:VTIMEZONE
BEGIN:VEVENT
SUMMARY:Grill & BBQ Court Hamburg
DTSTAMP:20191127T212826Z
SEQUENCE:0
UID:10-1-c073714a3aa2a1209a3f5bfb134a9a50@grillerforum.de
ORGANIZER;CN="Admin":kontakt@grillerforum.de
DESCRIPTION:\n\n	Heiße Öfen als Zuschauermagnet: Auf noch größerer 
	Fläche können Fachbesucher der INTERNORGA 2019 heiße Trends rund um den
	 Rost entdecken. Der Grill &amp\; BBQ Court präsentiert nicht nur klassis
	che Grillgeräte und nützliches Zubehör\, bekannte Gesichter aus der Sze
	ne zeigen dort die neuesten Tricks am Grill und angesagte Cuts wie Hanging
	 Tender\, Flank oder Outside Skirt. Grill-Experte Dirk Alberts gibt einen 
	Ausblick\, worauf sich Grillfans freuen können.\n\n\n\n	Es handelt sich 
	um eine Fachmesse\, zu der Privatpersonen (eigentlich) keinen Zutritt habe
	n. Mit Eintrittskartengutscheinen\, die man von freundlichen Ausstellern e
	rhalten kann\, kommt man aber trotzdem rein. Oder man kauft die Tickets un
	d gibt als Unternehmen den Namen an\, unter dem man sich schon immer mal s
	elbständig machen wollte.\n\n\n\n	Öffnungszeiten\n\n	täglich 10 - 18 Uh
	r\n\n\n\n	Eintritt\n\n	Tageskarte 34\,- € / ermäßigt 18\,-  €\n\n	Z
	weitagesticket 48\,- €\nOnlinekauf möglich\n\n
DTSTART:20200313T090000Z
DTEND:20200317T170000Z
END:VEVENT
END:VCALENDAR
